BEGIN:VCALENDAR
VERSION:2.0
PRODID:-//DC Collaborative - ECPv6.15.20//NONSGML v1.0//EN
CALSCALE:GREGORIAN
METHOD:PUBLISH
X-ORIGINAL-URL:https://dccollaborative.org
X-WR-CALDESC:Events for DC Collaborative
REFRESH-INTERVAL;VALUE=DURATION:PT1H
X-Robots-Tag:noindex
X-PUBLISHED-TTL:PT1H
BEGIN:VTIMEZONE
TZID:America/Halifax
BEGIN:DAYLIGHT
TZOFFSETFROM:-0400
TZOFFSETTO:-0300
TZNAME:ADT
DTSTART:20230312T060000
END:DAYLIGHT
BEGIN:STANDARD
TZOFFSETFROM:-0300
TZOFFSETTO:-0400
TZNAME:AST
DTSTART:20231105T050000
END:STANDARD
BEGIN:DAYLIGHT
TZOFFSETFROM:-0400
TZOFFSETTO:-0300
TZNAME:ADT
DTSTART:20240310T060000
END:DAYLIGHT
BEGIN:STANDARD
TZOFFSETFROM:-0300
TZOFFSETTO:-0400
TZNAME:AST
DTSTART:20241103T050000
END:STANDARD
BEGIN:DAYLIGHT
TZOFFSETFROM:-0400
TZOFFSETTO:-0300
TZNAME:ADT
DTSTART:20250309T060000
END:DAYLIGHT
BEGIN:STANDARD
TZOFFSETFROM:-0300
TZOFFSETTO:-0400
TZNAME:AST
DTSTART:20251102T050000
END:STANDARD
END:VTIMEZONE
BEGIN:VEVENT
DTSTART;TZID=America/Halifax:20240130T100000
DTEND;TZID=America/Halifax:20240130T130000
DTSTAMP:20260422T031319
CREATED:20231211T074013Z
LAST-MODIFIED:20231219T174730Z
UID:294-1706608800-1706619600@dccollaborative.org
SUMMARY:Designing Equity - Part 3: Working Lab Session
DESCRIPTION:$25 for non-members\n$15 for members \nREGISTER HERE \nSeries Description: \nPresented by The Wells Collective\, a diversity\, equity\, inclusion and justice firm with extensive experience with equity-centered training\, auditing\, and strategic planning. They work with schools and organizations to help them understand their power and position in society in order to manifest the necessary tools to serve as architects for liberation. \nThe firm is led by six Black women who are experienced diversity practitioners\, researchers\, leaders and educators.  They structure impactful learning experiences that both invite and challenge participants to grow. Believing that equity and justice work has always been led by Black women\, they also operate with the collective understanding that liberation comes from within. \nSession Description: \nThis working session will provide an opportunity to go from the idea to action. Participants will be able to access direct coaching in a small group setting to get questions answered and finish their designs. Participants only need to attend one of the two sessions.
URL:https://dccollaborative.org/community-offerings/designing-equity-part-3-working-lab-sessions/
LOCATION:Virtual
CATEGORIES:District Data Initiative,Professional Development
ATTACH;FMTTYPE=image/jpeg:https://dccollaborative.org/wp-content/uploads/2023/12/event-designing-equity-working-lab-session-jan-30.jpg
END:VEVENT
END:VCALENDAR