BEGIN:VCALENDAR
VERSION:2.0
PRODID:-//DC Collaborative - ECPv6.15.20//NONSGML v1.0//EN
CALSCALE:GREGORIAN
METHOD:PUBLISH
X-ORIGINAL-URL:https://dccollaborative.org
X-WR-CALDESC:Events for DC Collaborative
REFRESH-INTERVAL;VALUE=DURATION:PT1H
X-Robots-Tag:noindex
X-PUBLISHED-TTL:PT1H
BEGIN:VTIMEZONE
TZID:America/Halifax
BEGIN:DAYLIGHT
TZOFFSETFROM:-0400
TZOFFSETTO:-0300
TZNAME:ADT
DTSTART:20230312T060000
END:DAYLIGHT
BEGIN:STANDARD
TZOFFSETFROM:-0300
TZOFFSETTO:-0400
TZNAME:AST
DTSTART:20231105T050000
END:STANDARD
BEGIN:DAYLIGHT
TZOFFSETFROM:-0400
TZOFFSETTO:-0300
TZNAME:ADT
DTSTART:20240310T060000
END:DAYLIGHT
BEGIN:STANDARD
TZOFFSETFROM:-0300
TZOFFSETTO:-0400
TZNAME:AST
DTSTART:20241103T050000
END:STANDARD
BEGIN:DAYLIGHT
TZOFFSETFROM:-0400
TZOFFSETTO:-0300
TZNAME:ADT
DTSTART:20250309T060000
END:DAYLIGHT
BEGIN:STANDARD
TZOFFSETFROM:-0300
TZOFFSETTO:-0400
TZNAME:AST
DTSTART:20251102T050000
END:STANDARD
END:VTIMEZONE
BEGIN:VEVENT
DTSTART;VALUE=DATE:20240307
DTEND;VALUE=DATE:20240310
DTSTAMP:20260422T064321
CREATED:20240307T203722Z
LAST-MODIFIED:20240307T203722Z
UID:334-1709769600-1710028799@dccollaborative.org
SUMMARY:National Building Museum - March Events
DESCRIPTION:More Info Here \nMarch 7\, 2024\, 6-7:30 pm\nKotchakorn Voraakhom: Global and Local Climate Adaptation Design \nMarch 9\, 2024\, 10:30-11:15 am\nBrick Tales: A Creative Adventure for Little Builders \nMarch 9\, 2024\, 1-3 pm\nSTEAM Saturday
URL:https://dccollaborative.org/community-offerings/national-building-museum-march-events/
ATTACH;FMTTYPE=image/jpeg:https://dccollaborative.org/wp-content/uploads/2024/03/national-building-museum-march-events.jpg
END:VEVENT
BEGIN:VEVENT
DTSTART;VALUE=DATE:20240308
DTEND;VALUE=DATE:20240309
DTSTAMP:20260422T064321
CREATED:20240307T203230Z
LAST-MODIFIED:20240307T203230Z
UID:331-1709856000-1709942399@dccollaborative.org
SUMMARY:International Women’s Day Festival at NMWA
DESCRIPTION:Register Here \nBuy tickets and check out the full lineup of events at the link in our bio\, including flash tattoos (like this one!)\, yoga\, tours\, and more!
URL:https://dccollaborative.org/community-offerings/international-womens-day-festival-at-nmwa/
ATTACH;FMTTYPE=image/jpeg:https://dccollaborative.org/wp-content/uploads/2024/03/what-ig-women-ruled-the-world.jpg
END:VEVENT
END:VCALENDAR