BEGIN:VCALENDAR
VERSION:2.0
PRODID:-//DC Collaborative - ECPv6.15.20//NONSGML v1.0//EN
CALSCALE:GREGORIAN
METHOD:PUBLISH
X-WR-CALNAME:DC Collaborative
X-ORIGINAL-URL:https://dccollaborative.org
X-WR-CALDESC:Events for DC Collaborative
REFRESH-INTERVAL;VALUE=DURATION:PT1H
X-Robots-Tag:noindex
X-PUBLISHED-TTL:PT1H
BEGIN:VTIMEZONE
TZID:America/Halifax
BEGIN:DAYLIGHT
TZOFFSETFROM:-0400
TZOFFSETTO:-0300
TZNAME:ADT
DTSTART:20230312T060000
END:DAYLIGHT
BEGIN:STANDARD
TZOFFSETFROM:-0300
TZOFFSETTO:-0400
TZNAME:AST
DTSTART:20231105T050000
END:STANDARD
BEGIN:DAYLIGHT
TZOFFSETFROM:-0400
TZOFFSETTO:-0300
TZNAME:ADT
DTSTART:20240310T060000
END:DAYLIGHT
BEGIN:STANDARD
TZOFFSETFROM:-0300
TZOFFSETTO:-0400
TZNAME:AST
DTSTART:20241103T050000
END:STANDARD
BEGIN:DAYLIGHT
TZOFFSETFROM:-0400
TZOFFSETTO:-0300
TZNAME:ADT
DTSTART:20250309T060000
END:DAYLIGHT
BEGIN:STANDARD
TZOFFSETFROM:-0300
TZOFFSETTO:-0400
TZNAME:AST
DTSTART:20251102T050000
END:STANDARD
END:VTIMEZONE
BEGIN:VEVENT
DTSTART;VALUE=DATE:20240307
DTEND;VALUE=DATE:20240310
DTSTAMP:20260422T031030
CREATED:20240307T203722Z
LAST-MODIFIED:20240307T203722Z
UID:334-1709769600-1710028799@dccollaborative.org
SUMMARY:National Building Museum - March Events
DESCRIPTION:More Info Here \nMarch 7\, 2024\, 6-7:30 pm\nKotchakorn Voraakhom: Global and Local Climate Adaptation Design \nMarch 9\, 2024\, 10:30-11:15 am\nBrick Tales: A Creative Adventure for Little Builders \nMarch 9\, 2024\, 1-3 pm\nSTEAM Saturday
URL:https://dccollaborative.org/community-offerings/national-building-museum-march-events/
ATTACH;FMTTYPE=image/jpeg:https://dccollaborative.org/wp-content/uploads/2024/03/national-building-museum-march-events.jpg
END:VEVENT
BEGIN:VEVENT
DTSTART;VALUE=DATE:20240309
DTEND;VALUE=DATE:20240310
DTSTAMP:20260422T031030
CREATED:20240307T203345Z
LAST-MODIFIED:20240307T203345Z
UID:332-1709942400-1710028799@dccollaborative.org
SUMMARY:Kennedy Center Dance Lab
DESCRIPTION:Register Here \nThe program is open to 30 high school dancers entering grades 9-12 in the fall of 2024 from across the nation who desire to pursue dance careers\, show great leadership potential\, are interested in developing their creative voice\, and have a hunger to make a positive impact on the world.
URL:https://dccollaborative.org/community-offerings/kennedy-center-dance-lab/
ATTACH;FMTTYPE=image/jpeg:https://dccollaborative.org/wp-content/uploads/2024/03/kennedy-center-dance-lab.jpg
END:VEVENT
BEGIN:VEVENT
DTSTART;TZID=America/Halifax:20240309T160000
DTEND;TZID=America/Halifax:20240309T173000
DTSTAMP:20260422T031030
CREATED:20240307T203446Z
LAST-MODIFIED:20240307T203527Z
UID:333-1710000000-1710005400@dccollaborative.org
SUMMARY:Book Launch Party - Dipped in Cerulean
DESCRIPTION:Register Here \nJoin the Day Eight community in celebrating “Dipped in Cerulean\,” the debut poetry collection by 2023 DC Poet Project winner Brandon Douglas! We will be gathering at Marcellino’s Restaurant. RSVP is required!
URL:https://dccollaborative.org/community-offerings/book-launch-party-dipped-in-cerulean/
ATTACH;FMTTYPE=image/jpeg:https://dccollaborative.org/wp-content/uploads/2024/03/dipped-in-cerulean.jpg
END:VEVENT
END:VCALENDAR