BEGIN:VCALENDAR
VERSION:2.0
PRODID:-//DC Collaborative - ECPv6.15.20//NONSGML v1.0//EN
CALSCALE:GREGORIAN
METHOD:PUBLISH
X-WR-CALNAME:DC Collaborative
X-ORIGINAL-URL:https://dccollaborative.org
X-WR-CALDESC:Events for DC Collaborative
REFRESH-INTERVAL;VALUE=DURATION:PT1H
X-Robots-Tag:noindex
X-PUBLISHED-TTL:PT1H
BEGIN:VTIMEZONE
TZID:America/Halifax
BEGIN:DAYLIGHT
TZOFFSETFROM:-0400
TZOFFSETTO:-0300
TZNAME:ADT
DTSTART:20230312T060000
END:DAYLIGHT
BEGIN:STANDARD
TZOFFSETFROM:-0300
TZOFFSETTO:-0400
TZNAME:AST
DTSTART:20231105T050000
END:STANDARD
BEGIN:DAYLIGHT
TZOFFSETFROM:-0400
TZOFFSETTO:-0300
TZNAME:ADT
DTSTART:20240310T060000
END:DAYLIGHT
BEGIN:STANDARD
TZOFFSETFROM:-0300
TZOFFSETTO:-0400
TZNAME:AST
DTSTART:20241103T050000
END:STANDARD
BEGIN:DAYLIGHT
TZOFFSETFROM:-0400
TZOFFSETTO:-0300
TZNAME:ADT
DTSTART:20250309T060000
END:DAYLIGHT
BEGIN:STANDARD
TZOFFSETFROM:-0300
TZOFFSETTO:-0400
TZNAME:AST
DTSTART:20251102T050000
END:STANDARD
END:VTIMEZONE
BEGIN:VEVENT
DTSTART;TZID=America/Halifax:20240605T150000
DTEND;TZID=America/Halifax:20240605T170000
DTSTAMP:20260421T051455
CREATED:20240515T135525Z
LAST-MODIFIED:20240606T172922Z
UID:411-1717599600-1717606800@dccollaborative.org
SUMMARY:DDi Town Hall
DESCRIPTION:Free to Attend | Registration Required | Virtual \nREGISTER HERE \nGain insight into the state of Diversity\, Equity\, Inclusion\, and Accessibility implementation in arts and humanities education. We will offer tangible resources\, recommendations\, and the tools you need to enact positive change. \nWho should attend:\nArts Educators\, Arts Administrators\, Teaching Artists\, Program Managers\, Grant Writers\, and anyone who wants more insight on the arts and humanities education landscape in DC! \nWhat is DDi?\nDistrict Data Initiative is Data as Shared Knowledge.\nWe are the only DC organization collecting data about the arts and humanities education in the district and giving that data back to the people. Learn more here.
URL:https://dccollaborative.org/community-offerings/ddi-town-hall-2024/
LOCATION:Virtual
CATEGORIES:District Data Initiative
ATTACH;FMTTYPE=image/png:https://dccollaborative.org/wp-content/uploads/2024/05/ddi-town-halldid-you-know-1-e1715811124895.png
ORGANIZER;CN="District Data Initiative":MAILTO:elizabeth@dccollaborative.org
END:VEVENT
END:VCALENDAR