BEGIN:VCALENDAR
VERSION:2.0
PRODID:-//DC Collaborative - ECPv6.15.20//NONSGML v1.0//EN
CALSCALE:GREGORIAN
METHOD:PUBLISH
X-ORIGINAL-URL:https://dccollaborative.org
X-WR-CALDESC:Events for DC Collaborative
REFRESH-INTERVAL;VALUE=DURATION:PT1H
X-Robots-Tag:noindex
X-PUBLISHED-TTL:PT1H
BEGIN:VTIMEZONE
TZID:America/Halifax
BEGIN:DAYLIGHT
TZOFFSETFROM:-0400
TZOFFSETTO:-0300
TZNAME:ADT
DTSTART:20230312T060000
END:DAYLIGHT
BEGIN:STANDARD
TZOFFSETFROM:-0300
TZOFFSETTO:-0400
TZNAME:AST
DTSTART:20231105T050000
END:STANDARD
BEGIN:DAYLIGHT
TZOFFSETFROM:-0400
TZOFFSETTO:-0300
TZNAME:ADT
DTSTART:20240310T060000
END:DAYLIGHT
BEGIN:STANDARD
TZOFFSETFROM:-0300
TZOFFSETTO:-0400
TZNAME:AST
DTSTART:20241103T050000
END:STANDARD
BEGIN:DAYLIGHT
TZOFFSETFROM:-0400
TZOFFSETTO:-0300
TZNAME:ADT
DTSTART:20250309T060000
END:DAYLIGHT
BEGIN:STANDARD
TZOFFSETFROM:-0300
TZOFFSETTO:-0400
TZNAME:AST
DTSTART:20251102T050000
END:STANDARD
END:VTIMEZONE
BEGIN:VEVENT
DTSTART;TZID=America/Halifax:20240626T000000
DTEND;TZID=America/Halifax:20240926T000000
DTSTAMP:20260421T014915
CREATED:20240716T205142Z
LAST-MODIFIED:20240716T205142Z
UID:504-1719360000-1727308800@dccollaborative.org
SUMMARY:Phillips@THEARC: ZSUDAYKA NZINGA: HOME COMING / HOME GOING
DESCRIPTION:Learn More Here \nExhibition: ZSUDAYKA NZINGA: HOME COMING / HOME GOING\nJUNE 26-SEPTEMBER 26\, 2024\n$0 | Phillips@THEARC\n\n\n\n“From the ways we engaged on plantations and during Jim Crow\, to the ways we use interiors and say good-bye\, ‘home’ has an important lexicon in Black culture.” Zsudayka Nzinga  \nHome Coming / Home Going presents recent works by Zsudayka Nzinga that examine the diverse ways Black Americans find\, define\, and establish “home.” Nzinga’s work is grounded in social\, cultural\, and anthropological research into the history of her family\, community\, and diaspora. Combining mixed media on unstretched canvas—including acrylic\, marbling\, ink\, decorative paper\, and fabric—Nzinga explores figurative narratives of Black existence. Her intricately designed collages blend portraiture\, abstraction\, American fashion\, African textiles\, and symbols specific to Black American culture to express joy\, hope\, and the love of everyday life. \nThis exhibition is presented in conjunction with Multiplicity: Blackness in Contemporary American Collage. Nzinga’s work focuses on Black American identity\, showcasing the connections among cultural experiences of displacement and ideas of the self. \nIMAGE: Zsudayka Nzinga\, Run Away But Come Back Petit Marronage Act 1\, 2023\, Acrylic\, ink\, decorative paper\, and fabric on canvas\, 55 x 72 in.\, Courtesy of the artist
URL:https://dccollaborative.org/community-offerings/home-coming-home-going-phillipsatthearc/
LOCATION:Phillips@THEARC\, 1801 Mississippi Avenue\, SE\, Washington\, DC\, 20032\, United States
CATEGORIES:Hosted by Members
ATTACH;FMTTYPE=image/jpeg:https://dccollaborative.org/wp-content/uploads/2024/07/thearcphillips-e1721163080685.jpg
END:VEVENT
END:VCALENDAR