BEGIN:VCALENDAR
VERSION:2.0
PRODID:-//DC Collaborative - ECPv6.15.20//NONSGML v1.0//EN
CALSCALE:GREGORIAN
METHOD:PUBLISH
X-WR-CALNAME:DC Collaborative
X-ORIGINAL-URL:https://dccollaborative.org
X-WR-CALDESC:Events for DC Collaborative
REFRESH-INTERVAL;VALUE=DURATION:PT1H
X-Robots-Tag:noindex
X-PUBLISHED-TTL:PT1H
BEGIN:VTIMEZONE
TZID:America/Halifax
BEGIN:DAYLIGHT
TZOFFSETFROM:-0400
TZOFFSETTO:-0300
TZNAME:ADT
DTSTART:20230312T060000
END:DAYLIGHT
BEGIN:STANDARD
TZOFFSETFROM:-0300
TZOFFSETTO:-0400
TZNAME:AST
DTSTART:20231105T050000
END:STANDARD
BEGIN:DAYLIGHT
TZOFFSETFROM:-0400
TZOFFSETTO:-0300
TZNAME:ADT
DTSTART:20240310T060000
END:DAYLIGHT
BEGIN:STANDARD
TZOFFSETFROM:-0300
TZOFFSETTO:-0400
TZNAME:AST
DTSTART:20241103T050000
END:STANDARD
BEGIN:DAYLIGHT
TZOFFSETFROM:-0400
TZOFFSETTO:-0300
TZNAME:ADT
DTSTART:20250309T060000
END:DAYLIGHT
BEGIN:STANDARD
TZOFFSETFROM:-0300
TZOFFSETTO:-0400
TZNAME:AST
DTSTART:20251102T050000
END:STANDARD
END:VTIMEZONE
BEGIN:VEVENT
DTSTART;TZID=America/Halifax:20241006T190000
DTEND;TZID=America/Halifax:20241006T210000
DTSTAMP:20260420T214053
CREATED:20240913T205417Z
LAST-MODIFIED:20240913T205417Z
UID:540-1728241200-1728248400@dccollaborative.org
SUMMARY:NEXTGEN Jam Review
DESCRIPTION:Register Here \nNEXTGEN Jam Review\n\n\n\n\n\n\n\n\nSunday\, October 6 · 7 – 9pm EDT\n\n\n\n\n\n\n\n\n\n\n\n\n\n\n\n\n\n\n\nEaton DC\nFree to attend | Registration Required \nFor his first community event as Eaton House Cohort of 2024\, touring drummer-vocalist Dante’ Pope presents the NEXTGEN Jam Review. \nThe NEXTGEN Jam Review serves as an enrichment opportunity for young musicians to perform\, and connect and new audiences through the performing arts. This inaugural event will feature the Old Time Cobras of the School of Musical Traditions in Takoma Park\, Maryland\, youth recording artists from the Crabshack Music recording studio roster in Del Rey\, Virginia\, and students from McKinley Technology High School in Northeast. Proceeding the performances will be a presentation from event partner\, DC Collaborative. \nAs the only organization researching the arts and humanities impact within D.C. Public Schools\, they will present current general disparities around accessibility to the arts and humanities for students. Other event partners include science-based music education organization Finding Rhythm and Chuck Levin’s Washington Music Center. In tandem with this event\, Dante’ is partnering with the DC Collaborative’s District Data Initiative to raise funding for future research regarding funding for the arts and humanities in The District. \nIf you’re interested in supporting\, consider checking out this link for more information.
URL:https://dccollaborative.org/community-offerings/nextgen-jam-review/
LOCATION:Eaton DC\, 1201 K Street Northwest\, Washington\, DC\, 20005\, United States
CATEGORIES:District Data Initiative
ATTACH;FMTTYPE=image/jpeg:https://dccollaborative.org/wp-content/uploads/2024/09/nextgenjam-e1726260849568.jpeg
END:VEVENT
END:VCALENDAR