BEGIN:VCALENDAR
VERSION:2.0
PRODID:-//DC Collaborative - ECPv6.15.20//NONSGML v1.0//EN
CALSCALE:GREGORIAN
METHOD:PUBLISH
X-WR-CALNAME:DC Collaborative
X-ORIGINAL-URL:https://dccollaborative.org
X-WR-CALDESC:Events for DC Collaborative
REFRESH-INTERVAL;VALUE=DURATION:PT1H
X-Robots-Tag:noindex
X-PUBLISHED-TTL:PT1H
BEGIN:VTIMEZONE
TZID:America/Halifax
BEGIN:DAYLIGHT
TZOFFSETFROM:-0400
TZOFFSETTO:-0300
TZNAME:ADT
DTSTART:20230312T060000
END:DAYLIGHT
BEGIN:STANDARD
TZOFFSETFROM:-0300
TZOFFSETTO:-0400
TZNAME:AST
DTSTART:20231105T050000
END:STANDARD
BEGIN:DAYLIGHT
TZOFFSETFROM:-0400
TZOFFSETTO:-0300
TZNAME:ADT
DTSTART:20240310T060000
END:DAYLIGHT
BEGIN:STANDARD
TZOFFSETFROM:-0300
TZOFFSETTO:-0400
TZNAME:AST
DTSTART:20241103T050000
END:STANDARD
BEGIN:DAYLIGHT
TZOFFSETFROM:-0400
TZOFFSETTO:-0300
TZNAME:ADT
DTSTART:20250309T060000
END:DAYLIGHT
BEGIN:STANDARD
TZOFFSETFROM:-0300
TZOFFSETTO:-0400
TZNAME:AST
DTSTART:20251102T050000
END:STANDARD
END:VTIMEZONE
BEGIN:VEVENT
DTSTART;TZID=America/Halifax:20241016T100000
DTEND;TZID=America/Halifax:20241030T110000
DTSTAMP:20260420T215115
CREATED:20240913T181625Z
LAST-MODIFIED:20240913T181712Z
UID:535-1729072800-1730286000@dccollaborative.org
SUMMARY:Teaching Artist Program Development Virtual Workshop
DESCRIPTION:Register Here \nTeaching Artist Program Development Virtual Workshop\nOct. 16\, 23\, 30 from 10 AM to 11 AM\nVirtual\nFree to attend | Registration Required \nJoin us for an interactive\, hands-on workshop with the DC Collaborative Education Program Team! During the workshop\, you will gain valuable insight into creating a culturally relevant K-12 education program that is highly engaging and connected to curriculum.  Whether you’re an artist\, historian\, writer\, or cultural educator\, this workshop will equip you with the tools and strategies to engage educators\, connect to the classroom\, and bring your arts or humanities discipline to life! \nWho Should Attend:\nTeaching artists\, humanities practitioners\, and educators who are interested in developing educational programs within a specific arts and humanities discipline \nWhat will you take away: \n\nBest practices for developing and submitting education program proposals\nHow to Identify Grade-Level Curriculum Connections\nStrategies for effectively engaging students and educators\nHow to participate in our Arts and Humanities for Every Student Program\n\n\nOct. 16\, 23\, 30 from 10 AM to 11 AM\nThis is a Virtual Workshop hosted on Zoom.\nPlease sign up for one session that fits your schedule. \n♿️ We are committed to ensuring that our event is accessible to all participants. Captioning will be available via Zoom. Please let us know four days before the event if we can offer additional support by emailing shelby@dccollaborative.org
URL:https://dccollaborative.org/community-offerings/teaching-artist-program-development-virtual-workshop/
LOCATION:Virtual
CATEGORIES:Education Programs
ATTACH;FMTTYPE=image/png:https://dccollaborative.org/wp-content/uploads/2024/09/ta-pd-worksho.png
END:VEVENT
END:VCALENDAR