BEGIN:VCALENDAR
VERSION:2.0
PRODID:-//DC Collaborative - ECPv6.15.20//NONSGML v1.0//EN
CALSCALE:GREGORIAN
METHOD:PUBLISH
X-ORIGINAL-URL:https://dccollaborative.org
X-WR-CALDESC:Events for DC Collaborative
REFRESH-INTERVAL;VALUE=DURATION:PT1H
X-Robots-Tag:noindex
X-PUBLISHED-TTL:PT1H
BEGIN:VTIMEZONE
TZID:America/Halifax
BEGIN:DAYLIGHT
TZOFFSETFROM:-0400
TZOFFSETTO:-0300
TZNAME:ADT
DTSTART:20230312T060000
END:DAYLIGHT
BEGIN:STANDARD
TZOFFSETFROM:-0300
TZOFFSETTO:-0400
TZNAME:AST
DTSTART:20231105T050000
END:STANDARD
BEGIN:DAYLIGHT
TZOFFSETFROM:-0400
TZOFFSETTO:-0300
TZNAME:ADT
DTSTART:20240310T060000
END:DAYLIGHT
BEGIN:STANDARD
TZOFFSETFROM:-0300
TZOFFSETTO:-0400
TZNAME:AST
DTSTART:20241103T050000
END:STANDARD
BEGIN:DAYLIGHT
TZOFFSETFROM:-0400
TZOFFSETTO:-0300
TZNAME:ADT
DTSTART:20250309T060000
END:DAYLIGHT
BEGIN:STANDARD
TZOFFSETFROM:-0300
TZOFFSETTO:-0400
TZNAME:AST
DTSTART:20251102T050000
END:STANDARD
END:VTIMEZONE
BEGIN:VEVENT
DTSTART;TZID=America/Halifax:20241107T100000
DTEND;TZID=America/Halifax:20241107T120000
DTSTAMP:20260420T175835
CREATED:20241028T221313Z
LAST-MODIFIED:20241028T221313Z
UID:551-1730973600-1730980800@dccollaborative.org
SUMMARY:DC Collaborative Fall Member Meeting
DESCRIPTION:Register Here \nDC Collaborative Fall Member Meeting\nNovember 7th at 10 AM\nAt The Avalon Theatre\nDC Collaborative Fall Member Meeting \n\nJoin us for our upcoming Member Meeting\, an exclusive opportunity for all current members of DC Collaborative to come together\, connect\, and help shape the future of our organization. \nMembers will cast their votes on key decisions that will guide our direction. We will share updates on our ongoing initiatives and have time for networking\, community-building\, and connecting with fellow members! \nGuest speakers include:\nDCPS Arts\nThe Avalon \nThis is a chance to network with fellow members\, share insights\, and reaffirm our collective commitment to enriching arts education for DC public school students! \nRegistration Required | FY25 membership required\nBecome a member today to join! \n♿️ We are committed to ensuring that our event is accessible to all participants. Captioning will be available. Please let us know four days before the event if we can offer additional support by emailing shelby@dccollaborative.org
URL:https://dccollaborative.org/community-offerings/fall-member-meeting/
LOCATION:The Avalon\, 5612 Connecticut Ave NW\, Washington\, DC\, 20015\, United States
ATTACH;FMTTYPE=image/png:https://dccollaborative.org/wp-content/uploads/2024/10/fall-member-meeting-instagram-post-e1730152654314.png
END:VEVENT
END:VCALENDAR