BEGIN:VCALENDAR
VERSION:2.0
PRODID:-//DC Collaborative - ECPv6.15.20//NONSGML v1.0//EN
CALSCALE:GREGORIAN
METHOD:PUBLISH
X-ORIGINAL-URL:https://dccollaborative.org
X-WR-CALDESC:Events for DC Collaborative
REFRESH-INTERVAL;VALUE=DURATION:PT1H
X-Robots-Tag:noindex
X-PUBLISHED-TTL:PT1H
BEGIN:VTIMEZONE
TZID:America/Halifax
BEGIN:DAYLIGHT
TZOFFSETFROM:-0400
TZOFFSETTO:-0300
TZNAME:ADT
DTSTART:20240310T060000
END:DAYLIGHT
BEGIN:STANDARD
TZOFFSETFROM:-0300
TZOFFSETTO:-0400
TZNAME:AST
DTSTART:20241103T050000
END:STANDARD
BEGIN:DAYLIGHT
TZOFFSETFROM:-0400
TZOFFSETTO:-0300
TZNAME:ADT
DTSTART:20250309T060000
END:DAYLIGHT
BEGIN:STANDARD
TZOFFSETFROM:-0300
TZOFFSETTO:-0400
TZNAME:AST
DTSTART:20251102T050000
END:STANDARD
BEGIN:DAYLIGHT
TZOFFSETFROM:-0400
TZOFFSETTO:-0300
TZNAME:ADT
DTSTART:20260308T060000
END:DAYLIGHT
BEGIN:STANDARD
TZOFFSETFROM:-0300
TZOFFSETTO:-0400
TZNAME:AST
DTSTART:20261101T050000
END:STANDARD
END:VTIMEZONE
BEGIN:VEVENT
DTSTART;TZID=America/Halifax:20250912T170000
DTEND;TZID=America/Halifax:20250912T210000
DTSTAMP:20260419T180831
CREATED:20250818T202340Z
LAST-MODIFIED:20250904T122622Z
UID:754-1757696400-1757710800@dccollaborative.org
SUMMARY:Art All Night: Friends and Family Fest
DESCRIPTION:Register Here \nArt All Night: Friends and Family Fest\nFree to attend | Registration Requested \nFriday\, September 12 · 5 – 9 pm EDT \nDC Collaborative is excited to present a series of activations for Art All Night in partnership with Eastern Market Main Street. Bring your entire family to experience interactive crafts and activities\, live performances\, and shop directly from local artists. From kids to grandparents\, everyone will find something to love and something to learn from the creative changemakers that shape our community! Follow along for updates online at dccollaborative.org and @dccollaborative. We are proudly supporting artists and performers through grant support from the DC Department of Small & Local Business Development. \nRegister Here
URL:https://dccollaborative.org/community-offerings/dc-collaborative-art-all-night/
LOCATION:Eastern Market\, 225 7th St SE\, Washington\, DC\, 20003\, United States
ATTACH;FMTTYPE=image/png:https://dccollaborative.org/wp-content/uploads/2025/08/aan-presentation-e1755548582713.png
END:VEVENT
END:VCALENDAR