BEGIN:VCALENDAR
VERSION:2.0
PRODID:-//DC Collaborative - ECPv6.15.20//NONSGML v1.0//EN
CALSCALE:GREGORIAN
METHOD:PUBLISH
X-WR-CALNAME:DC Collaborative
X-ORIGINAL-URL:https://dccollaborative.org
X-WR-CALDESC:Events for DC Collaborative
REFRESH-INTERVAL;VALUE=DURATION:PT1H
X-Robots-Tag:noindex
X-PUBLISHED-TTL:PT1H
BEGIN:VTIMEZONE
TZID:America/Halifax
BEGIN:DAYLIGHT
TZOFFSETFROM:-0400
TZOFFSETTO:-0300
TZNAME:ADT
DTSTART:20230312T060000
END:DAYLIGHT
BEGIN:STANDARD
TZOFFSETFROM:-0300
TZOFFSETTO:-0400
TZNAME:AST
DTSTART:20231105T050000
END:STANDARD
BEGIN:DAYLIGHT
TZOFFSETFROM:-0400
TZOFFSETTO:-0300
TZNAME:ADT
DTSTART:20240310T060000
END:DAYLIGHT
BEGIN:STANDARD
TZOFFSETFROM:-0300
TZOFFSETTO:-0400
TZNAME:AST
DTSTART:20241103T050000
END:STANDARD
BEGIN:DAYLIGHT
TZOFFSETFROM:-0400
TZOFFSETTO:-0300
TZNAME:ADT
DTSTART:20250309T060000
END:DAYLIGHT
BEGIN:STANDARD
TZOFFSETFROM:-0300
TZOFFSETTO:-0400
TZNAME:AST
DTSTART:20251102T050000
END:STANDARD
END:VTIMEZONE
BEGIN:VEVENT
DTSTART;TZID=America/Halifax:20240626T000000
DTEND;TZID=America/Halifax:20240926T000000
DTSTAMP:20260421T033440
CREATED:20240716T205142Z
LAST-MODIFIED:20240716T205142Z
UID:504-1719360000-1727308800@dccollaborative.org
SUMMARY:Phillips@THEARC: ZSUDAYKA NZINGA: HOME COMING / HOME GOING
DESCRIPTION:Learn More Here \nExhibition: ZSUDAYKA NZINGA: HOME COMING / HOME GOING\nJUNE 26-SEPTEMBER 26\, 2024\n$0 | Phillips@THEARC\n\n\n\n“From the ways we engaged on plantations and during Jim Crow\, to the ways we use interiors and say good-bye\, ‘home’ has an important lexicon in Black culture.” Zsudayka Nzinga  \nHome Coming / Home Going presents recent works by Zsudayka Nzinga that examine the diverse ways Black Americans find\, define\, and establish “home.” Nzinga’s work is grounded in social\, cultural\, and anthropological research into the history of her family\, community\, and diaspora. Combining mixed media on unstretched canvas—including acrylic\, marbling\, ink\, decorative paper\, and fabric—Nzinga explores figurative narratives of Black existence. Her intricately designed collages blend portraiture\, abstraction\, American fashion\, African textiles\, and symbols specific to Black American culture to express joy\, hope\, and the love of everyday life. \nThis exhibition is presented in conjunction with Multiplicity: Blackness in Contemporary American Collage. Nzinga’s work focuses on Black American identity\, showcasing the connections among cultural experiences of displacement and ideas of the self. \nIMAGE: Zsudayka Nzinga\, Run Away But Come Back Petit Marronage Act 1\, 2023\, Acrylic\, ink\, decorative paper\, and fabric on canvas\, 55 x 72 in.\, Courtesy of the artist
URL:https://dccollaborative.org/community-offerings/home-coming-home-going-phillipsatthearc/
LOCATION:Phillips@THEARC\, 1801 Mississippi Avenue\, SE\, Washington\, DC\, 20032\, United States
CATEGORIES:Hosted by Members
ATTACH;FMTTYPE=image/jpeg:https://dccollaborative.org/wp-content/uploads/2024/07/thearcphillips-e1721163080685.jpg
END:VEVENT
BEGIN:VEVENT
DTSTART;TZID=America/Halifax:20240819T083000
DTEND;TZID=America/Halifax:20240822T130000
DTSTAMP:20260421T033440
CREATED:20240719T212536Z
LAST-MODIFIED:20240719T212536Z
UID:510-1724056200-1724331600@dccollaborative.org
SUMMARY:Growing Community Summer Youth Program
DESCRIPTION:Register Here \nGrowing Community Summer Youth Program\nMon-Thur\, Aug 19th – 22nd | 8:30 am–1 pm\nAnacostia Community Museum\nCome learn\, grow\, and explore at our inaugural Growing Community Summer Youth Program. Students in grades three through five are welcome to enjoy a week of interactive garden workshops\, art projects\, and more! The program will run from Monday through Thursday\, August 19th until August 22nd\, from 8:30 am–1 pm\, with a special Harvest Celebration on the last day! Lunch will be provided each day of camp. Visit anacostia.si.edu/cej to learn more and sign up. \nStudents in Grades Three Through Five are Welcome Special Harvest Celebration August 22nd
URL:https://dccollaborative.org/community-offerings/growing-community-summer-youth-program/
LOCATION:Anacostia Community Museum\, 1901 Fort Place SE\, Washington\, DC\, 20020\, United States
CATEGORIES:Hosted by Members
ATTACH;FMTTYPE=image/png:https://dccollaborative.org/wp-content/uploads/2024/07/acm-youth-program.png
END:VEVENT
BEGIN:VEVENT
DTSTART;TZID=America/Halifax:20240820T173000
DTEND;TZID=America/Halifax:20240820T193000
DTSTAMP:20260421T033440
CREATED:20240805T163545Z
LAST-MODIFIED:20240805T163545Z
UID:514-1724175000-1724182200@dccollaborative.org
SUMMARY:Community Social Hour
DESCRIPTION:Register Here \nCommunity Social Hour\nThur\, Aug 20th – 22nd | 5:30 PM -7:30 PM\nBoardwalk Bar & Arcade at the Wharf\nCommunity Social Hour with the DC Commission on the Arts and Humanities\nTuesday\, August 20th\, 5:30 PM -7:30 PM\nBoardwalk Bar & Arcade at the Wharf \nJoin us and the DC Commission on the Arts and Humanities for an evening of fun games\, refreshments\, and community-building! Meet leaders in the DC arts scene\, learn about upcoming opportunities\, and discover how you can get involved. \nFree to attend | Registration Required \n\n📍 Getting there\n715 Wharf St SW\, Washington\, DC 20024\nPlease note: Boardwalk is a completely cashless venue. \n 🚊 Metro Access \nNear Waterfront (on the Green line) and L’Enfant Plaza (on the Blue\, Orange\, Silver\, Green\, and Yellow lines) \n🚌 Bus Access \nThe following bus lines also have stops close to Boardwalk Bar & Arcade: 52\, 74\, P6\, V1\, and W9
URL:https://dccollaborative.org/community-offerings/arts-and-humanities-social-hour/
LOCATION:Boardwalk Bar & Arcade at the Wharf\, 715 Wharf St SW\, Washington\, DC\, 20004\, United States
CATEGORIES:Professional Development
ATTACH;FMTTYPE=image/png:https://dccollaborative.org/wp-content/uploads/2024/08/1-e1722875339170.png
END:VEVENT
BEGIN:VEVENT
DTSTART;TZID=America/Halifax:20240822T163000
DTEND;TZID=America/Halifax:20240822T173000
DTSTAMP:20260421T033440
CREATED:20240822T010435Z
LAST-MODIFIED:20240822T010435Z
UID:519-1724344200-1724347800@dccollaborative.org
SUMMARY:Arts and Humanities for Every Student Program Kick-Off!
DESCRIPTION:Register Here \nAHFES Program Kick-Off!\nThurs.\, August 22nd at 4:30 PM\nVirtual\nJoin us for a virtual orientation on our Fall 2024 Arts and Humanities for Every Student (AHFES) Cycle. AHFES programs are one-time\, synchronous events that include: interactive workshops\, live-streamed performances/programs\, student matinees\, visits to museums/estates\, and assemblies offered at NO COST to schools. \nThe programs found in our Program Catalogue span grades Pre-K to 12th grade and connect directly to standard classroom curriculum and National Core Arts Standards. Attendants will learn more about becoming a school partner\, the various offerings in our Program Catalogue\, and the registration process. \nWhen: August 22nd at 4:30 PM \nWho Should Attend:\nTeachers\, Principals\, and Administrators working for DCPS and/or DC-PCS.
URL:https://dccollaborative.org/community-offerings/arts-and-humanities-for-every-student-program-kick-off/
LOCATION:Virtual
CATEGORIES:Education Programs
ATTACH;FMTTYPE=image/png:https://dccollaborative.org/wp-content/uploads/2024/08/1-1-e1724288594555.png
END:VEVENT
BEGIN:VEVENT
DTSTART;VALUE=DATE:20240826
DTEND;VALUE=DATE:20240914
DTSTAMP:20260421T033440
CREATED:20240829T051300Z
LAST-MODIFIED:20240829T051347Z
UID:521-1724630400-1726271999@dccollaborative.org
SUMMARY:Register now for AHFES Programs
DESCRIPTION:Register Here \nOPEN NOW: Arts and Humanities for Every Student Programming\nAug 26th – Sept. 13th\nOnline Request Portal\nThe Fall 2024 Arts and Humanities for Every Student (AHFES) Cycle has begun! Register your class for interactive workshops\, live-streamed performances/programs\, student matinees\, visits to museums\, and more! Registration closes September 13th. \nAbout AHFES Programming \nArts and Humanities for Every Student (AHFES) programs are one-time\, synchronous events that include: interactive workshops\, live-streamed performances/programs\, student matinees\, visits to museums/estates\, and assemblies offered at NO COST to schools. \nThe programs found in the Program Catalogue span grades Pre-K to 12th grade and connect directly to standard classroom curriculum and National Core Arts Standards. \nHow to: \nWatch this video on the process.\nBecome a school partner!\nRequest a program here. \n 
URL:https://dccollaborative.org/community-offerings/school-programming/
LOCATION:Boardwalk Bar & Arcade at the Wharf\, 715 Wharf St SW\, Washington\, DC\, 20004\, United States
CATEGORIES:Education Programs
ATTACH;FMTTYPE=image/png:https://dccollaborative.org/wp-content/uploads/2024/08/ahfes-reg-open-now-e1724908283490.png
END:VEVENT
BEGIN:VEVENT
DTSTART;VALUE=DATE:20240829
DTEND;VALUE=DATE:20240902
DTSTAMP:20260421T033440
CREATED:20240829T051958Z
LAST-MODIFIED:20240829T052033Z
UID:523-1724889600-1725235199@dccollaborative.org
SUMMARY:KanKouran 41st Annual Conference and Concert
DESCRIPTION:Register Here \n\n\nKanKouran 41st Annual Conference and Concert\n\n\nThurs.\, August 22nd at 4:30 PM\nVirtual\nInternationally renowned\, KanKouran West African Dance Company\, hosts its 41st Annual National African Dance and Drum Conference: Thursday\, August 29 – Sunday\, September 1\, 2024. This Labor Day weekend event also kicks off African Heritage Month in the District of Columbia. \nWith the calling from the drums\, KanKouran’s Annual African Dance and Drum Conference ushers in a NATIONAL CONVERGENCE of West Africa’s finest dancers and musicians. Professional artists\, dance companies\, youth organizations\, and dance/drum enthusiasts come from around the world to partake in four days of dancing and drumming instruction from the most skilled teachers. More than 20 workshop presenters from Senegal\, Guinea\, Mali\, the Congo\, and Liberia are set to teach techniques perfected through years of performance\, experience\, study\, and research. Conference workshops cater to a variety of dance styles and levels. Each year\, KanKouran’s Annual Conference is the most highly anticipated event of its kind! \nJoin us as KanKouran celebrates its 41st Annual Conference and Concert! \nDon’t miss the LIVE CONCERT EVENT: “ORIGIN: A Spiritual Journey Back Home” on Saturday\, August 31 at 8:00 PM.
URL:https://dccollaborative.org/community-offerings/kankouran-41st-annual-conference-and-concert/
LOCATION:Washington Marriott Capitol Hill\, 175 L Street Northeast Washington\, DC 20002\, Washington\, DC\, 20002\, United States
CATEGORIES:Hosted by Members
ATTACH;FMTTYPE=image/png:https://dccollaborative.org/wp-content/uploads/2024/08/2-e1724908650291.png
END:VEVENT
END:VCALENDAR